BEGIN:VCALENDAR
VERSION:2.0
PRODID:-//Tennis Center Sand Point - ECPv6.15.20//NONSGML v1.0//EN
CALSCALE:GREGORIAN
METHOD:PUBLISH
X-ORIGINAL-URL:https://tenniscentersandpoint.com
X-WR-CALDESC:Events for Tennis Center Sand Point
REFRESH-INTERVAL;VALUE=DURATION:PT1H
X-Robots-Tag:noindex
X-PUBLISHED-TTL:PT1H
BEGIN:VTIMEZONE
TZID:America/Los_Angeles
BEGIN:DAYLIGHT
TZOFFSETFROM:-0800
TZOFFSETTO:-0700
TZNAME:PDT
DTSTART:20240310T100000
END:DAYLIGHT
BEGIN:STANDARD
TZOFFSETFROM:-0700
TZOFFSETTO:-0800
TZNAME:PST
DTSTART:20241103T090000
END:STANDARD
BEGIN:DAYLIGHT
TZOFFSETFROM:-0800
TZOFFSETTO:-0700
TZNAME:PDT
DTSTART:20250309T100000
END:DAYLIGHT
BEGIN:STANDARD
TZOFFSETFROM:-0700
TZOFFSETTO:-0800
TZNAME:PST
DTSTART:20251102T090000
END:STANDARD
BEGIN:DAYLIGHT
TZOFFSETFROM:-0800
TZOFFSETTO:-0700
TZNAME:PDT
DTSTART:20260308T100000
END:DAYLIGHT
BEGIN:STANDARD
TZOFFSETFROM:-0700
TZOFFSETTO:-0800
TZNAME:PST
DTSTART:20261101T090000
END:STANDARD
END:VTIMEZONE
BEGIN:VEVENT
DTSTART;VALUE=DATE:20251001
DTEND;VALUE=DATE:20251214
DTSTAMP:20260419T064116
CREATED:20251001T192335Z
LAST-MODIFIED:20251002T203724Z
UID:11483-1759276800-1765670399@tenniscentersandpoint.com
SUMMARY:Fall Match Play for Juniors | Red Orange Yellow
DESCRIPTION:Junior match play | It’s Game time!\nGet ready for another exciting season of junior match play at the club! These fun\, fast-paced events are the perfect way for players to gain valuable match experience in a positive and low-competitive setting. Match formats and lineups will be set on the day of play\, with scores recorded in UTR. Designed to support player development and confidence\, these events offer a great mix of learning and fun—perfect for growing your game while enjoying time on court! \nupcoming match play dates\n\nEdit\n\n\nDate\nTime\nDivision\nCost\n\n\n\n\n10/11\n5:00 – 6:30 PM\nRed Ball 2.0-3.0\n$20.00\n\n\n10/11\n5:00 – 6:30 PM\nOrange Ball 2.0-3.0\n$30.00\n\n\n10/11\n6:30 – 8:30 PM\nYellow Ball 2.0-3.0\n$35.00\n\n\n10/18\n5:00 – 6:30 PM\nPerformance Prep & P1\n$30.00\n\n\n10/18\n6:30 – 8:30 PM\nYellow 4-5 | Perf 3-4\n$35.00\n\n\n10/25\n5:00 – 6:30 PM\nOrange Ball 2.0-3.0\n$30.00\n\n\n10/25\n6:30 – 8:30 PM\nYellow Ball 2.0-3.0\n$35.00\n\n\n11/1\n5:00 – 6:30 PM\nPerformance Prep & P1\n$30.00\n\n\n11/1\n6:30 – 8:30 PM\nYellow 4-5 | Perf 3-4\n$35.00\n\n\n11/8\n5:00 – 6:30 PM\nRed Ball 2.0-3.0\n$20.00\n\n\n11/8\n5:00 – 6:30 PM\nOrange Ball 2.0-3.0\n$30.00\n\n\n11/8\n6:30 – 8:30 PM\nYellow Ball 2.0-3.0\n$35.00\n\n\n11/15\n5:00 – 6:30 PM\nPerformance Prep & P1\n$30.00\n\n\n11/15\n6:30 – 8:30 PM\nYellow 4-5 | Perf 3-4\n$35.00\n\n\n11/22\n5:00 – 6:30 PM\nOrange Ball 2.0-3.0\n$30.00\n\n\n11/22\n6:30 – 8:30 PM\nYellow Ball 2.0-3.0\n$35.00\n\n\n12/6\n5:00 – 6:30 PM\nPerformance Prep & P1\n$30.00\n\n\n12/6\n6:30 – 8:30 PM\nYellow 4-5 | Perf 3-4\n$35.00\n\n\n12/13\n5:00 – 6:30 PM\nRed Ball 2.0-3.0\n$20.00\n\n\n12/13\n5:00 – 6:30 PM\nOrange Ball 2.0-3.0\n$30.00\n\n\n12/13\n6:30 – 8:30 PM\nYellow Ball 2.0-3.0\n$35.00\n\n\n\nSpots fill fast—register early to reserve your place!\nWe can’t wait to see you on the court!\n\nRegister Here
URL:https://tenniscentersandpoint.com/event/fall-match-play-for-juniors-red-orange-yellow/
END:VEVENT
BEGIN:VEVENT
DTSTART;VALUE=DATE:20251005
DTEND;VALUE=DATE:20251006
DTSTAMP:20260419T064116
CREATED:20250701T150003Z
LAST-MODIFIED:20250829T171100Z
UID:10756-1759622400-1759708799@tenniscentersandpoint.com
SUMMARY:Rally For The Light
DESCRIPTION:The largest Red Ball tennis rally-thon in Seattle! \nSunday\, October 5th\, 2025 \nBenefiting: \n																														 \nA Rally for a Cure with LLS\nOn Sunday\, October 5\, Tennis Center Sand Point will host Rally For The Light\, Seattle’s largest Red Ball rally-thon for tennis. This year\, we’re partnering with Blood Cancer United to support their Light The Night campaign. \nBlood Cancer United leads the charge in the fight against blood cancers by funding groundbreaking research\, supporting patients and families\, and advocating for policies that improve access to care. Through Light The Night\, communities across the country come together to celebrate\, honor\, and remember those touched by blood cancers. \nDetails for Participation\n\n\n							\n										Teams should have 2-4 players each\n									\n\n							\n										Teams can be family members\, friends\, or teammates\n									\n\n							\n										Red Ball court sessions are 30 minutes each\n									\n\n							\n										Teams are welcome to register 2 court times MAX\n									\n\n							\n										Players are expected to wear court appropriate shoes\n									\n\n							\n										Players should have their own racquets (loaners are available)\n									\n\n							\n										Junior frames are encouraged for this event but not required\n									\n\n							\n										Balls will be provided by TCSP for every court and team\n									\n\nHow to Participate\nStep 1: Create Your Rally Team\nClick the link below to form your Team and fill out the Google Form completely. Upon completion\, the Blood Cancer United Team will send you your confirmation and login credentials to start raising funds for your team!  \n					\n									Blood Cancer United Registration Google Form\n					 \nStep 2: Reserve Your Court & Rally\nOnce you have registered your team with Blood Cancer United via the Google Form link above\, your team will need to book a court time to participate on October 5. \nThe link below is the SignUp Genius page to secure your team’s time slot(s). \nCourts will be 36′ Red Ball dimensions. Rally with a friend\, family\, or team – and yes\, you can reserve multiple courts if you have enough participants to keep the balls flying! \n					\n									Reserve Court On SignUp Genius\n					 \nOnce TCSP has received confirmation that both Steps 1 & 2 have been completed\, we will send out the final confirmation email that you and your partner or team have a secured spot In Rally For The Light! \nFor questions about this event\, please email events@tenniscentersandpoint.com \nInterested in donating only?\n					\n									Donate Now at LLS
URL:https://tenniscentersandpoint.com/event/rally-for-the-light/
LOCATION:TCSP\, 7135 Sportsfield Drive NE\, Seattle\, 98115\, United States
CATEGORIES:Fundraisers
END:VEVENT
BEGIN:VEVENT
DTSTART;TZID=America/Los_Angeles:20251021T180000
DTEND;TZID=America/Los_Angeles:20251021T200000
DTSTAMP:20260419T064116
CREATED:20250905T175226Z
LAST-MODIFIED:20250912T202029Z
UID:11304-1761069600-1761076800@tenniscentersandpoint.com
SUMMARY:New Member Mixer: October
DESCRIPTION:New Member Mixers are an introductory event for TCSP members new to the club within their first 60 days. Meet new friends and folks to play with and sample drills from various clinics offered at TCSP. \nPost-play is a fun gathering up on the cafe deck with TCSP staff to answer questions and find out all the happenings around the club. \nThis event is Offered each month! \n\nRegister Here
URL:https://tenniscentersandpoint.com/event/new-member-mixer-october/
LOCATION:TCSP\, 7135 Sportsfield Drive NE\, Seattle\, 98115\, United States
END:VEVENT
BEGIN:VEVENT
DTSTART;TZID=America/Los_Angeles:20251024T181500
DTEND;TZID=America/Los_Angeles:20251024T204500
DTSTAMP:20260419T064116
CREATED:20250905T175503Z
LAST-MODIFIED:20251010T195835Z
UID:11307-1761329700-1761338700@tenniscentersandpoint.com
SUMMARY:Tacky Tennis
DESCRIPTION:Tacky tennis is one of TCSP longest running traditions and requires a team of 4 players who compete throughout the evening together as a team. Extended play time and coach led drills make for a great work out and crazy good fun as you may be hitting against rock stars\, doctors\, zombies or movie stars. This is a costume event so make sure to bring your A-game! \nBe ready for a great time! Tunes will be blasting and displays of team spirit\, fun team names\, costumes\, and general silliness are rewarded! Stick around for tasty treats and beverages after the on-court monster smash.\nRegister Here
URL:https://tenniscentersandpoint.com/event/tacky-tennis-2/
LOCATION:TCSP\, 7135 Sportsfield Drive NE\, Seattle\, 98115\, United States
ATTACH;FMTTYPE=image/jpeg:https://tenniscentersandpoint.com/wp-content/uploads/2025/08/Tacky-Horizontal.jpg
END:VEVENT
END:VCALENDAR