BEGIN:VCALENDAR
VERSION:2.0
PRODID:-//Tennis Center Sand Point - ECPv6.15.20//NONSGML v1.0//EN
CALSCALE:GREGORIAN
METHOD:PUBLISH
X-ORIGINAL-URL:https://tenniscentersandpoint.com
X-WR-CALDESC:Events for Tennis Center Sand Point
REFRESH-INTERVAL;VALUE=DURATION:PT1H
X-Robots-Tag:noindex
X-PUBLISHED-TTL:PT1H
BEGIN:VTIMEZONE
TZID:America/Los_Angeles
BEGIN:DAYLIGHT
TZOFFSETFROM:-0800
TZOFFSETTO:-0700
TZNAME:PDT
DTSTART:20250309T100000
END:DAYLIGHT
BEGIN:STANDARD
TZOFFSETFROM:-0700
TZOFFSETTO:-0800
TZNAME:PST
DTSTART:20251102T090000
END:STANDARD
BEGIN:DAYLIGHT
TZOFFSETFROM:-0800
TZOFFSETTO:-0700
TZNAME:PDT
DTSTART:20260308T100000
END:DAYLIGHT
BEGIN:STANDARD
TZOFFSETFROM:-0700
TZOFFSETTO:-0800
TZNAME:PST
DTSTART:20261101T090000
END:STANDARD
BEGIN:DAYLIGHT
TZOFFSETFROM:-0800
TZOFFSETTO:-0700
TZNAME:PDT
DTSTART:20270314T100000
END:DAYLIGHT
BEGIN:STANDARD
TZOFFSETFROM:-0700
TZOFFSETTO:-0800
TZNAME:PST
DTSTART:20271107T090000
END:STANDARD
END:VTIMEZONE
BEGIN:VEVENT
DTSTART;TZID=America/Los_Angeles:20260120T180000
DTEND;TZID=America/Los_Angeles:20260120T200000
DTSTAMP:20260420T203756
CREATED:20250912T200828Z
LAST-MODIFIED:20260108T201232Z
UID:11378-1768932000-1768939200@tenniscentersandpoint.com
SUMMARY:New Member Mixer: January
DESCRIPTION:Our Friday Night Lights is back! Join us for a great Friday playing experience. Partner and Opponent Rotations after each round.Combined ratings\, with no greater than 1 point difference and adding up to 5.0\, 6.0 or 7.0 in each division.FAST4 Format. No Ad scoring\, score cards maintaining scores each round. Social gathering post play and winners acknowledged.Critical Event Notes;Partners will rotate after each round and individual score cards kept. If players sign up with a partner they can start with that partner but will rotate after 1st round. Partner’s names or individual requests must email events@tenniscentersandpoint.com with details in advance for optimum chances of the most fun!Ratings used will be our TCSP ratings for level based pla 								\n				\n					\n				\n		\n					\n				\n				\n					Register Here
URL:https://tenniscentersandpoint.com/event/new-member-mixer-december/
LOCATION:TCSP\, 7135 Sportsfield Drive NE\, Seattle\, 98115\, United States
END:VEVENT
BEGIN:VEVENT
DTSTART;TZID=America/Los_Angeles:20260131T090000
DTEND;TZID=America/Los_Angeles:20260131T130000
DTSTAMP:20260420T203756
CREATED:20251120T184222Z
LAST-MODIFIED:20251120T184754Z
UID:11665-1769850000-1769864400@tenniscentersandpoint.com
SUMMARY:Peak Sports & Spine Free Injury Screening
DESCRIPTION:Our Friday Night Lights is back! Join us for a great Friday playing experience. Partner and Opponent Rotations after each round.Combined ratings\, with no greater than 1 point difference and adding up to 5.0\, 6.0 or 7.0 in each division.FAST4 Format. No Ad scoring\, score cards maintaining scores each round. Social gathering post play and winners acknowledged.Critical Event Notes;Partners will rotate after each round and individual score cards kept. If players sign up with a partner they can start with that partner but will rotate after 1st round. Partner’s names or individual requests must email events@tenniscentersandpoint.com with details in advance for optimum chances of the most fun!Ratings used will be our TCSP ratings for level based pla 								\n				\n					\n				\n		\n					\n				\n				\n					Register Here
URL:https://tenniscentersandpoint.com/event/peak-sports-spine-free-injury-screening-4/
CATEGORIES:Programs
END:VEVENT
BEGIN:VEVENT
DTSTART;TZID=America/Los_Angeles:20260204T180000
DTEND;TZID=America/Los_Angeles:20260204T210000
DTSTAMP:20260420T203756
CREATED:20251202T203706Z
LAST-MODIFIED:20251202T203706Z
UID:11691-1770228000-1770238800@tenniscentersandpoint.com
SUMMARY:PNW Women's Tennis Coaching Network Meeting at TCSP
DESCRIPTION:Our Friday Night Lights is back! Join us for a great Friday playing experience. Partner and Opponent Rotations after each round.Combined ratings\, with no greater than 1 point difference and adding up to 5.0\, 6.0 or 7.0 in each division.FAST4 Format. No Ad scoring\, score cards maintaining scores each round. Social gathering post play and winners acknowledged.Critical Event Notes;Partners will rotate after each round and individual score cards kept. If players sign up with a partner they can start with that partner but will rotate after 1st round. Partner’s names or individual requests must email events@tenniscentersandpoint.com with details in advance for optimum chances of the most fun!Ratings used will be our TCSP ratings for level based pla 								\n				\n					\n				\n		\n					\n				\n				\n					Register Here
URL:https://tenniscentersandpoint.com/event/pnw-womens-tennis-coaching-network-meeting-at-tcsp/
END:VEVENT
BEGIN:VEVENT
DTSTART;TZID=America/Los_Angeles:20260215T150000
DTEND;TZID=America/Los_Angeles:20260215T170000
DTSTAMP:20260420T203756
CREATED:20260108T202514Z
LAST-MODIFIED:20260108T202538Z
UID:11887-1771167600-1771174800@tenniscentersandpoint.com
SUMMARY:Love All Fast4 Doubles Fix
DESCRIPTION:Our Friday Night Lights is back! Join us for a great Friday playing experience. Partner and Opponent Rotations after each round.Combined ratings\, with no greater than 1 point difference and adding up to 5.0\, 6.0 or 7.0 in each division.FAST4 Format. No Ad scoring\, score cards maintaining scores each round. Social gathering post play and winners acknowledged.Critical Event Notes;Partners will rotate after each round and individual score cards kept. If players sign up with a partner they can start with that partner but will rotate after 1st round. Partner’s names or individual requests must email events@tenniscentersandpoint.com with details in advance for optimum chances of the most fun!Ratings used will be our TCSP ratings for level based pla 								\n				\n					\n				\n		\n					\n				\n				\n					Register Here
URL:https://tenniscentersandpoint.com/event/loave-all-fast4-doubles-fix/
END:VEVENT
BEGIN:VEVENT
DTSTART;TZID=America/Los_Angeles:20260217T180000
DTEND;TZID=America/Los_Angeles:20260217T200000
DTSTAMP:20260420T203756
CREATED:20260108T201334Z
LAST-MODIFIED:20260108T201334Z
UID:11885-1771351200-1771358400@tenniscentersandpoint.com
SUMMARY:New Member Mixer: February
DESCRIPTION:Our Friday Night Lights is back! Join us for a great Friday playing experience. Partner and Opponent Rotations after each round.Combined ratings\, with no greater than 1 point difference and adding up to 5.0\, 6.0 or 7.0 in each division.FAST4 Format. No Ad scoring\, score cards maintaining scores each round. Social gathering post play and winners acknowledged.Critical Event Notes;Partners will rotate after each round and individual score cards kept. If players sign up with a partner they can start with that partner but will rotate after 1st round. Partner’s names or individual requests must email events@tenniscentersandpoint.com with details in advance for optimum chances of the most fun!Ratings used will be our TCSP ratings for level based pla 								\n				\n					\n				\n		\n					\n				\n				\n					Register Here
URL:https://tenniscentersandpoint.com/event/new-member-mixer-february/
LOCATION:TCSP\, 7135 Sportsfield Drive NE\, Seattle\, 98115\, United States
END:VEVENT
BEGIN:VEVENT
DTSTART;TZID=America/Los_Angeles:20260303T080000
DTEND;TZID=America/Los_Angeles:20260303T170000
DTSTAMP:20260420T203756
CREATED:20260303T195659Z
LAST-MODIFIED:20260303T200216Z
UID:12193-1772524800-1772557200@tenniscentersandpoint.com
SUMMARY:GEN Z Spring Round Up
DESCRIPTION:Our Friday Night Lights is back! Join us for a great Friday playing experience. Partner and Opponent Rotations after each round.Combined ratings\, with no greater than 1 point difference and adding up to 5.0\, 6.0 or 7.0 in each division.FAST4 Format. No Ad scoring\, score cards maintaining scores each round. Social gathering post play and winners acknowledged.Critical Event Notes;Partners will rotate after each round and individual score cards kept. If players sign up with a partner they can start with that partner but will rotate after 1st round. Partner’s names or individual requests must email events@tenniscentersandpoint.com with details in advance for optimum chances of the most fun!Ratings used will be our TCSP ratings for level based pla 								\n				\n					\n				\n		\n					\n				\n				\n					Register Here
URL:https://tenniscentersandpoint.com/event/gen-z-spring-round-up/
END:VEVENT
BEGIN:VEVENT
DTSTART;VALUE=DATE:20260317
DTEND;VALUE=DATE:20260318
DTSTAMP:20260420T203756
CREATED:20260214T000939Z
LAST-MODIFIED:20260214T001055Z
UID:12015-1773705600-1773791999@tenniscentersandpoint.com
SUMMARY:Shamrock Triples
DESCRIPTION:Our Friday Night Lights is back! Join us for a great Friday playing experience. Partner and Opponent Rotations after each round.Combined ratings\, with no greater than 1 point difference and adding up to 5.0\, 6.0 or 7.0 in each division.FAST4 Format. No Ad scoring\, score cards maintaining scores each round. Social gathering post play and winners acknowledged.Critical Event Notes;Partners will rotate after each round and individual score cards kept. If players sign up with a partner they can start with that partner but will rotate after 1st round. Partner’s names or individual requests must email events@tenniscentersandpoint.com with details in advance for optimum chances of the most fun!Ratings used will be our TCSP ratings for level based pla 								\n				\n					\n				\n		\n					\n				\n				\n					Register Here
URL:https://tenniscentersandpoint.com/event/shamrock-triples/
CATEGORIES:Competition
END:VEVENT
BEGIN:VEVENT
DTSTART;TZID=America/Los_Angeles:20260324T180000
DTEND;TZID=America/Los_Angeles:20260324T200000
DTSTAMP:20260420T203756
CREATED:20260303T195348Z
LAST-MODIFIED:20260303T195348Z
UID:12189-1774375200-1774382400@tenniscentersandpoint.com
SUMMARY:New Member Mixer: March
DESCRIPTION:Our Friday Night Lights is back! Join us for a great Friday playing experience. Partner and Opponent Rotations after each round.Combined ratings\, with no greater than 1 point difference and adding up to 5.0\, 6.0 or 7.0 in each division.FAST4 Format. No Ad scoring\, score cards maintaining scores each round. Social gathering post play and winners acknowledged.Critical Event Notes;Partners will rotate after each round and individual score cards kept. If players sign up with a partner they can start with that partner but will rotate after 1st round. Partner’s names or individual requests must email events@tenniscentersandpoint.com with details in advance for optimum chances of the most fun!Ratings used will be our TCSP ratings for level based pla 								\n				\n					\n				\n		\n					\n				\n				\n					Register Here
URL:https://tenniscentersandpoint.com/event/new-member-mixer-march/
LOCATION:TCSP\, 7135 Sportsfield Drive NE\, Seattle\, 98115\, United States
END:VEVENT
BEGIN:VEVENT
DTSTART;TZID=America/Los_Angeles:20260415T193000
DTEND;TZID=America/Los_Angeles:20260415T210000
DTSTAMP:20260420T203756
CREATED:20260330T145741Z
LAST-MODIFIED:20260330T145741Z
UID:12277-1776281400-1776286800@tenniscentersandpoint.com
SUMMARY:GEN Z Spring Round Up
DESCRIPTION:Our Friday Night Lights is back! Join us for a great Friday playing experience. Partner and Opponent Rotations after each round.Combined ratings\, with no greater than 1 point difference and adding up to 5.0\, 6.0 or 7.0 in each division.FAST4 Format. No Ad scoring\, score cards maintaining scores each round. Social gathering post play and winners acknowledged.Critical Event Notes;Partners will rotate after each round and individual score cards kept. If players sign up with a partner they can start with that partner but will rotate after 1st round. Partner’s names or individual requests must email events@tenniscentersandpoint.com with details in advance for optimum chances of the most fun!Ratings used will be our TCSP ratings for level based pla 								\n				\n					\n				\n		\n					\n				\n				\n					Register Here
URL:https://tenniscentersandpoint.com/event/gen-z-spring-round-up-2/
END:VEVENT
BEGIN:VEVENT
DTSTART;TZID=America/Los_Angeles:20260421T180000
DTEND;TZID=America/Los_Angeles:20260421T200000
DTSTAMP:20260420T203756
CREATED:20260303T195421Z
LAST-MODIFIED:20260303T195421Z
UID:12190-1776794400-1776801600@tenniscentersandpoint.com
SUMMARY:New Member Mixer: April
DESCRIPTION:Our Friday Night Lights is back! Join us for a great Friday playing experience. Partner and Opponent Rotations after each round.Combined ratings\, with no greater than 1 point difference and adding up to 5.0\, 6.0 or 7.0 in each division.FAST4 Format. No Ad scoring\, score cards maintaining scores each round. Social gathering post play and winners acknowledged.Critical Event Notes;Partners will rotate after each round and individual score cards kept. If players sign up with a partner they can start with that partner but will rotate after 1st round. Partner’s names or individual requests must email events@tenniscentersandpoint.com with details in advance for optimum chances of the most fun!Ratings used will be our TCSP ratings for level based pla 								\n				\n					\n				\n		\n					\n				\n				\n					Register Here
URL:https://tenniscentersandpoint.com/event/new-member-mixer-april-2/
LOCATION:TCSP\, 7135 Sportsfield Drive NE\, Seattle\, 98115\, United States
END:VEVENT
BEGIN:VEVENT
DTSTART;TZID=America/Los_Angeles:20260510T140000
DTEND;TZID=America/Los_Angeles:20260510T160000
DTSTAMP:20260420T203756
CREATED:20260330T202303Z
LAST-MODIFIED:20260330T202420Z
UID:12289-1778421600-1778428800@tenniscentersandpoint.com
SUMMARY:Mother's Day Doubles Fun
DESCRIPTION:Our Friday Night Lights is back! Join us for a great Friday playing experience. Partner and Opponent Rotations after each round.Combined ratings\, with no greater than 1 point difference and adding up to 5.0\, 6.0 or 7.0 in each division.FAST4 Format. No Ad scoring\, score cards maintaining scores each round. Social gathering post play and winners acknowledged.Critical Event Notes;Partners will rotate after each round and individual score cards kept. If players sign up with a partner they can start with that partner but will rotate after 1st round. Partner’s names or individual requests must email events@tenniscentersandpoint.com with details in advance for optimum chances of the most fun!Ratings used will be our TCSP ratings for level based pla 								\n				\n					\n				\n		\n					\n				\n				\n					Register Here
URL:https://tenniscentersandpoint.com/event/mothers-day-doubles-fun-2/
END:VEVENT
BEGIN:VEVENT
DTSTART;TZID=America/Los_Angeles:20260519T180000
DTEND;TZID=America/Los_Angeles:20260519T200000
DTSTAMP:20260420T203756
CREATED:20260330T154147Z
LAST-MODIFIED:20260330T154147Z
UID:12283-1779213600-1779220800@tenniscentersandpoint.com
SUMMARY:New Member Mixer: May
DESCRIPTION:Our Friday Night Lights is back! Join us for a great Friday playing experience. Partner and Opponent Rotations after each round.Combined ratings\, with no greater than 1 point difference and adding up to 5.0\, 6.0 or 7.0 in each division.FAST4 Format. No Ad scoring\, score cards maintaining scores each round. Social gathering post play and winners acknowledged.Critical Event Notes;Partners will rotate after each round and individual score cards kept. If players sign up with a partner they can start with that partner but will rotate after 1st round. Partner’s names or individual requests must email events@tenniscentersandpoint.com with details in advance for optimum chances of the most fun!Ratings used will be our TCSP ratings for level based pla 								\n				\n					\n				\n		\n					\n				\n				\n					Register Here
URL:https://tenniscentersandpoint.com/event/new-member-mixer-may-2/
LOCATION:TCSP\, 7135 Sportsfield Drive NE\, Seattle\, 98115\, United States
END:VEVENT
BEGIN:VEVENT
DTSTART;VALUE=DATE:20260614
DTEND;VALUE=DATE:20260615
DTSTAMP:20260420T203756
CREATED:20260330T154656Z
LAST-MODIFIED:20260330T154656Z
UID:12287-1781395200-1781481599@tenniscentersandpoint.com
SUMMARY:Dad Doubles
DESCRIPTION:Our Friday Night Lights is back! Join us for a great Friday playing experience. Partner and Opponent Rotations after each round.Combined ratings\, with no greater than 1 point difference and adding up to 5.0\, 6.0 or 7.0 in each division.FAST4 Format. No Ad scoring\, score cards maintaining scores each round. Social gathering post play and winners acknowledged.Critical Event Notes;Partners will rotate after each round and individual score cards kept. If players sign up with a partner they can start with that partner but will rotate after 1st round. Partner’s names or individual requests must email events@tenniscentersandpoint.com with details in advance for optimum chances of the most fun!Ratings used will be our TCSP ratings for level based pla 								\n				\n					\n				\n		\n					\n				\n				\n					Register Here
URL:https://tenniscentersandpoint.com/event/dad-doubles/
END:VEVENT
BEGIN:VEVENT
DTSTART;TZID=America/Los_Angeles:20260623T180000
DTEND;TZID=America/Los_Angeles:20260623T200000
DTSTAMP:20260420T203756
CREATED:20260330T154541Z
LAST-MODIFIED:20260330T154541Z
UID:12285-1782237600-1782244800@tenniscentersandpoint.com
SUMMARY:New Member Mixer: June
DESCRIPTION:Our Friday Night Lights is back! Join us for a great Friday playing experience. Partner and Opponent Rotations after each round.Combined ratings\, with no greater than 1 point difference and adding up to 5.0\, 6.0 or 7.0 in each division.FAST4 Format. No Ad scoring\, score cards maintaining scores each round. Social gathering post play and winners acknowledged.Critical Event Notes;Partners will rotate after each round and individual score cards kept. If players sign up with a partner they can start with that partner but will rotate after 1st round. Partner’s names or individual requests must email events@tenniscentersandpoint.com with details in advance for optimum chances of the most fun!Ratings used will be our TCSP ratings for level based pla 								\n				\n					\n				\n		\n					\n				\n				\n					Register Here
URL:https://tenniscentersandpoint.com/event/new-member-mixer-june-2/
LOCATION:TCSP\, 7135 Sportsfield Drive NE\, Seattle\, 98115\, United States
END:VEVENT
BEGIN:VEVENT
DTSTART;VALUE=DATE:20260716
DTEND;VALUE=DATE:20260720
DTSTAMP:20260420T203756
CREATED:20260401T203013Z
LAST-MODIFIED:20260401T203013Z
UID:12323-1784160000-1784505599@tenniscentersandpoint.com
SUMMARY:Club Championships - Men and Women Singles
DESCRIPTION:Our Friday Night Lights is back! Join us for a great Friday playing experience. Partner and Opponent Rotations after each round.Combined ratings\, with no greater than 1 point difference and adding up to 5.0\, 6.0 or 7.0 in each division.FAST4 Format. No Ad scoring\, score cards maintaining scores each round. Social gathering post play and winners acknowledged.Critical Event Notes;Partners will rotate after each round and individual score cards kept. If players sign up with a partner they can start with that partner but will rotate after 1st round. Partner’s names or individual requests must email events@tenniscentersandpoint.com with details in advance for optimum chances of the most fun!Ratings used will be our TCSP ratings for level based pla 								\n				\n					\n				\n		\n					\n				\n				\n					Register Here
URL:https://tenniscentersandpoint.com/event/club-championships-men-and-women-singles/
END:VEVENT
BEGIN:VEVENT
DTSTART;VALUE=DATE:20260724
DTEND;VALUE=DATE:20260727
DTSTAMP:20260420T203756
CREATED:20260401T203143Z
LAST-MODIFIED:20260401T203143Z
UID:12325-1784851200-1785110399@tenniscentersandpoint.com
SUMMARY:Club Championships - Men and Women Doubles
DESCRIPTION:Our Friday Night Lights is back! Join us for a great Friday playing experience. Partner and Opponent Rotations after each round.Combined ratings\, with no greater than 1 point difference and adding up to 5.0\, 6.0 or 7.0 in each division.FAST4 Format. No Ad scoring\, score cards maintaining scores each round. Social gathering post play and winners acknowledged.Critical Event Notes;Partners will rotate after each round and individual score cards kept. If players sign up with a partner they can start with that partner but will rotate after 1st round. Partner’s names or individual requests must email events@tenniscentersandpoint.com with details in advance for optimum chances of the most fun!Ratings used will be our TCSP ratings for level based pla 								\n				\n					\n				\n		\n					\n				\n				\n					Register Here
URL:https://tenniscentersandpoint.com/event/club-championships-men-and-women-doubles/
END:VEVENT
BEGIN:VEVENT
DTSTART;VALUE=DATE:20260807
DTEND;VALUE=DATE:20260810
DTSTAMP:20260420T203756
CREATED:20260401T203400Z
LAST-MODIFIED:20260401T203400Z
UID:12327-1786060800-1786319999@tenniscentersandpoint.com
SUMMARY:Club Championships - Mixed Doubles
DESCRIPTION:Our Friday Night Lights is back! Join us for a great Friday playing experience. Partner and Opponent Rotations after each round.Combined ratings\, with no greater than 1 point difference and adding up to 5.0\, 6.0 or 7.0 in each division.FAST4 Format. No Ad scoring\, score cards maintaining scores each round. Social gathering post play and winners acknowledged.Critical Event Notes;Partners will rotate after each round and individual score cards kept. If players sign up with a partner they can start with that partner but will rotate after 1st round. Partner’s names or individual requests must email events@tenniscentersandpoint.com with details in advance for optimum chances of the most fun!Ratings used will be our TCSP ratings for level based pla 								\n				\n					\n				\n		\n					\n				\n				\n					Register Here
URL:https://tenniscentersandpoint.com/event/club-championships-mixed-doubles/
END:VEVENT
BEGIN:VEVENT
DTSTART;VALUE=DATE:20260814
DTEND;VALUE=DATE:20260816
DTSTAMP:20260420T203756
CREATED:20260401T203504Z
LAST-MODIFIED:20260401T203504Z
UID:12329-1786665600-1786838399@tenniscentersandpoint.com
SUMMARY:Junior Club Championships
DESCRIPTION:Our Friday Night Lights is back! Join us for a great Friday playing experience. Partner and Opponent Rotations after each round.Combined ratings\, with no greater than 1 point difference and adding up to 5.0\, 6.0 or 7.0 in each division.FAST4 Format. No Ad scoring\, score cards maintaining scores each round. Social gathering post play and winners acknowledged.Critical Event Notes;Partners will rotate after each round and individual score cards kept. If players sign up with a partner they can start with that partner but will rotate after 1st round. Partner’s names or individual requests must email events@tenniscentersandpoint.com with details in advance for optimum chances of the most fun!Ratings used will be our TCSP ratings for level based pla 								\n				\n					\n				\n		\n					\n				\n				\n					Register Here
URL:https://tenniscentersandpoint.com/event/junior-club-championships/
END:VEVENT
END:VCALENDAR