BEGIN:VCALENDAR
VERSION:2.0
PRODID:-//Tennis Center Sand Point - ECPv6.15.20//NONSGML v1.0//EN
CALSCALE:GREGORIAN
METHOD:PUBLISH
X-ORIGINAL-URL:https://tenniscentersandpoint.com
X-WR-CALDESC:Events for Tennis Center Sand Point
REFRESH-INTERVAL;VALUE=DURATION:PT1H
X-Robots-Tag:noindex
X-PUBLISHED-TTL:PT1H
BEGIN:VTIMEZONE
TZID:America/Los_Angeles
BEGIN:DAYLIGHT
TZOFFSETFROM:-0800
TZOFFSETTO:-0700
TZNAME:PDT
DTSTART:20240310T100000
END:DAYLIGHT
BEGIN:STANDARD
TZOFFSETFROM:-0700
TZOFFSETTO:-0800
TZNAME:PST
DTSTART:20241103T090000
END:STANDARD
BEGIN:DAYLIGHT
TZOFFSETFROM:-0800
TZOFFSETTO:-0700
TZNAME:PDT
DTSTART:20250309T100000
END:DAYLIGHT
BEGIN:STANDARD
TZOFFSETFROM:-0700
TZOFFSETTO:-0800
TZNAME:PST
DTSTART:20251102T090000
END:STANDARD
BEGIN:DAYLIGHT
TZOFFSETFROM:-0800
TZOFFSETTO:-0700
TZNAME:PDT
DTSTART:20260308T100000
END:DAYLIGHT
BEGIN:STANDARD
TZOFFSETFROM:-0700
TZOFFSETTO:-0800
TZNAME:PST
DTSTART:20261101T090000
END:STANDARD
END:VTIMEZONE
BEGIN:VEVENT
DTSTART;TZID=America/Los_Angeles:20250619T160000
DTEND;TZID=America/Los_Angeles:20250619T183000
DTSTAMP:20260419T154557
CREATED:20250531T231029Z
LAST-MODIFIED:20250604T040449Z
UID:10485-1750348800-1750357800@tenniscentersandpoint.com
SUMMARY:WINE TASTING: SIPS IN THE SUMMER
DESCRIPTION:WINE TASTING: SIPS IN THE SUMMER \n\nThe best way to learn about wine is to sample and talk shop with the experts! Join us on Thursday\, June 19\, for a relaxing afternoon of fine wines\, great company\, and curated tastings from our partner at Cherry Hill Wine & Spirits. Chat with Stacey Jones from Cherry Hill about the wines that will be featured this evening. Pours will run from 4:00 – 6:30 PM\, and the cost is free for TCSP members and $10 + wsst for guests. If you find a wine you like\, then fill out the order form for a bottle or two. Want more? Case orders will be eligible for bulk discounts for the evening!  \nOfferings to include: \n\n– Encostas de Lima Vinho Verde Rose\, Portugal \n– Terregaie Claris Pinot Grigio\, Italy \n– Bold Chardonnay\, California \n– Sonder Red Field Blend\, Washington \n– Centerstone Pinot Noir\, Oregon \n\n  \nAs a bonus to the evening\, watch the French Open men’s and women’s final with Cafe Manager\, Mike Foiles! Mike will be there to sip and talk tennis highlighting key moments of the matches. Whether you’re a seasoned connoisseur or just love a good glass\, come swirl\, sip\, talk tennis\, and enjoy!!  \n					Register Here
URL:https://tenniscentersandpoint.com/event/wine-tasting-sips-in-the-summer/
CATEGORIES:Social
ATTACH;FMTTYPE=image/png:https://tenniscentersandpoint.com/wp-content/uploads/2022/12/Final-Cafe-Logo.png
END:VEVENT
END:VCALENDAR