BEGIN:VCALENDAR
VERSION:2.0
PRODID:-//Tennis Center Sand Point - ECPv6.15.20//NONSGML v1.0//EN
CALSCALE:GREGORIAN
METHOD:PUBLISH
X-WR-CALNAME:Tennis Center Sand Point
X-ORIGINAL-URL:https://tenniscentersandpoint.com
X-WR-CALDESC:Events for Tennis Center Sand Point
REFRESH-INTERVAL;VALUE=DURATION:PT1H
X-Robots-Tag:noindex
X-PUBLISHED-TTL:PT1H
BEGIN:VTIMEZONE
TZID:America/Los_Angeles
BEGIN:DAYLIGHT
TZOFFSETFROM:-0800
TZOFFSETTO:-0700
TZNAME:PDT
DTSTART:20240310T100000
END:DAYLIGHT
BEGIN:STANDARD
TZOFFSETFROM:-0700
TZOFFSETTO:-0800
TZNAME:PST
DTSTART:20241103T090000
END:STANDARD
BEGIN:DAYLIGHT
TZOFFSETFROM:-0800
TZOFFSETTO:-0700
TZNAME:PDT
DTSTART:20250309T100000
END:DAYLIGHT
BEGIN:STANDARD
TZOFFSETFROM:-0700
TZOFFSETTO:-0800
TZNAME:PST
DTSTART:20251102T090000
END:STANDARD
BEGIN:DAYLIGHT
TZOFFSETFROM:-0800
TZOFFSETTO:-0700
TZNAME:PDT
DTSTART:20260308T100000
END:DAYLIGHT
BEGIN:STANDARD
TZOFFSETFROM:-0700
TZOFFSETTO:-0800
TZNAME:PST
DTSTART:20261101T090000
END:STANDARD
END:VTIMEZONE
BEGIN:VEVENT
DTSTART;VALUE=DATE:20251001
DTEND;VALUE=DATE:20251214
DTSTAMP:20260419T051348
CREATED:20251001T192335Z
LAST-MODIFIED:20251002T203724Z
UID:11483-1759276800-1765670399@tenniscentersandpoint.com
SUMMARY:Fall Match Play for Juniors | Red Orange Yellow
DESCRIPTION:Junior match play | It’s Game time!\nGet ready for another exciting season of junior match play at the club! These fun\, fast-paced events are the perfect way for players to gain valuable match experience in a positive and low-competitive setting. Match formats and lineups will be set on the day of play\, with scores recorded in UTR. Designed to support player development and confidence\, these events offer a great mix of learning and fun—perfect for growing your game while enjoying time on court! \nupcoming match play dates\n\nEdit\n\n\nDate\nTime\nDivision\nCost\n\n\n\n\n10/11\n5:00 – 6:30 PM\nRed Ball 2.0-3.0\n$20.00\n\n\n10/11\n5:00 – 6:30 PM\nOrange Ball 2.0-3.0\n$30.00\n\n\n10/11\n6:30 – 8:30 PM\nYellow Ball 2.0-3.0\n$35.00\n\n\n10/18\n5:00 – 6:30 PM\nPerformance Prep & P1\n$30.00\n\n\n10/18\n6:30 – 8:30 PM\nYellow 4-5 | Perf 3-4\n$35.00\n\n\n10/25\n5:00 – 6:30 PM\nOrange Ball 2.0-3.0\n$30.00\n\n\n10/25\n6:30 – 8:30 PM\nYellow Ball 2.0-3.0\n$35.00\n\n\n11/1\n5:00 – 6:30 PM\nPerformance Prep & P1\n$30.00\n\n\n11/1\n6:30 – 8:30 PM\nYellow 4-5 | Perf 3-4\n$35.00\n\n\n11/8\n5:00 – 6:30 PM\nRed Ball 2.0-3.0\n$20.00\n\n\n11/8\n5:00 – 6:30 PM\nOrange Ball 2.0-3.0\n$30.00\n\n\n11/8\n6:30 – 8:30 PM\nYellow Ball 2.0-3.0\n$35.00\n\n\n11/15\n5:00 – 6:30 PM\nPerformance Prep & P1\n$30.00\n\n\n11/15\n6:30 – 8:30 PM\nYellow 4-5 | Perf 3-4\n$35.00\n\n\n11/22\n5:00 – 6:30 PM\nOrange Ball 2.0-3.0\n$30.00\n\n\n11/22\n6:30 – 8:30 PM\nYellow Ball 2.0-3.0\n$35.00\n\n\n12/6\n5:00 – 6:30 PM\nPerformance Prep & P1\n$30.00\n\n\n12/6\n6:30 – 8:30 PM\nYellow 4-5 | Perf 3-4\n$35.00\n\n\n12/13\n5:00 – 6:30 PM\nRed Ball 2.0-3.0\n$20.00\n\n\n12/13\n5:00 – 6:30 PM\nOrange Ball 2.0-3.0\n$30.00\n\n\n12/13\n6:30 – 8:30 PM\nYellow Ball 2.0-3.0\n$35.00\n\n\n\nSpots fill fast—register early to reserve your place!\nWe can’t wait to see you on the court!\n\nRegister Here
URL:https://tenniscentersandpoint.com/event/fall-match-play-for-juniors-red-orange-yellow/
END:VEVENT
BEGIN:VEVENT
DTSTART;TZID=America/Los_Angeles:20251118T170000
DTEND;TZID=America/Los_Angeles:20251118T193000
DTSTAMP:20260419T051348
CREATED:20251106T171639Z
LAST-MODIFIED:20251106T172930Z
UID:11612-1763485200-1763494200@tenniscentersandpoint.com
SUMMARY:Athlete to Owner Workshop | Part 1 of 2 | Career Transition Options for Greater Wealth\, Autonomy\, and Purpose
DESCRIPTION:Athlete to Owner Workshop | Part 1 of 2 | Career Transition Options for Greater Wealth\, Autonomy\, and Purpose\nSpend an evening with Athlete to Owner CEO\, Alan Regala\, exploring four career paths available to high-achieving professionals: advancing in corporate\, buying an existing business\, starting an independent business\, or buying a franchise. This is Part 1 of 2 workshops that Alan will be hosting at TCSP. \nFor more details and registration options for this in-person or livestream event here: https://www.athletetoowner.com/from-corporate-to-owner-workshop-series \nWorkshop Details & Registration
URL:https://tenniscentersandpoint.com/event/athlete-to-owner-workshop-part-1-of-2-career-transition-options-for-greater-wealth-autonomy-and-purpose/
ATTACH;FMTTYPE=image/jpeg:https://tenniscentersandpoint.com/wp-content/uploads/2025/09/a2o-logo.jpg
END:VEVENT
BEGIN:VEVENT
DTSTART;TZID=America/Los_Angeles:20251118T180000
DTEND;TZID=America/Los_Angeles:20251118T200000
DTSTAMP:20260419T051348
CREATED:20250912T195636Z
LAST-MODIFIED:20250912T202249Z
UID:11368-1763488800-1763496000@tenniscentersandpoint.com
SUMMARY:New Member Mixer: November
DESCRIPTION:New Member Mixers are an introductory event for TCSP members new to the club within their first 60 days. Meet new friends and folks to play with and sample drills from various clinics offered at TCSP. \nPost-play is a fun gathering up on the cafe deck with TCSP staff to answer questions and find out all the happenings around the club. \nThis event is Offered each month! \n\nRegister Here
URL:https://tenniscentersandpoint.com/event/new-member-mixer-november/
LOCATION:TCSP\, 7135 Sportsfield Drive NE\, Seattle\, 98115\, United States
CATEGORIES:Social
END:VEVENT
END:VCALENDAR